BEGIN:VCALENDAR
VERSION:2.0
PRODID:-//Lorena Woods - ECPv6.15.20//NONSGML v1.0//EN
CALSCALE:GREGORIAN
METHOD:PUBLISH
X-ORIGINAL-URL:https://www.lorenawinediary.com
X-WR-CALDESC:Events for Lorena Woods
REFRESH-INTERVAL;VALUE=DURATION:PT1H
X-Robots-Tag:noindex
X-PUBLISHED-TTL:PT1H
BEGIN:VTIMEZONE
TZID:UTC
BEGIN:STANDARD
TZOFFSETFROM:+0000
TZOFFSETTO:+0000
TZNAME:UTC
DTSTART:20190101T000000
END:STANDARD
END:VTIMEZONE
BEGIN:VTIMEZONE
TZID:America/Los_Angeles
BEGIN:DAYLIGHT
TZOFFSETFROM:-0800
TZOFFSETTO:-0700
TZNAME:PDT
DTSTART:20190310T100000
END:DAYLIGHT
BEGIN:STANDARD
TZOFFSETFROM:-0700
TZOFFSETTO:-0800
TZNAME:PST
DTSTART:20191103T090000
END:STANDARD
BEGIN:DAYLIGHT
TZOFFSETFROM:-0800
TZOFFSETTO:-0700
TZNAME:PDT
DTSTART:20200308T100000
END:DAYLIGHT
BEGIN:STANDARD
TZOFFSETFROM:-0700
TZOFFSETTO:-0800
TZNAME:PST
DTSTART:20201101T090000
END:STANDARD
BEGIN:DAYLIGHT
TZOFFSETFROM:-0800
TZOFFSETTO:-0700
TZNAME:PDT
DTSTART:20210314T100000
END:DAYLIGHT
BEGIN:STANDARD
TZOFFSETFROM:-0700
TZOFFSETTO:-0800
TZNAME:PST
DTSTART:20211107T090000
END:STANDARD
END:VTIMEZONE
BEGIN:VEVENT
DTSTART;TZID=UTC:20201001T173000
DTEND;TZID=UTC:20201001T183000
DTSTAMP:20260423T180015
CREATED:20200927T025533Z
LAST-MODIFIED:20200927T034854Z
UID:2220-1601573400-1601577000@www.lorenawinediary.com
SUMMARY:Wine Tasting with Faire La Fête
DESCRIPTION:Instagram IG LIVE with Charlotte Holl\, Partner & Sales Director at Faire la Fête \nTaste with us! You may purchase your bottle in different locations. Use the Store Locator to find the closes location to you. \nTasting Bottle: \nFaire La Fete Cremant de Limoux\nYou can also find Faire La Fête in Costco. Locations include VAN NUYS\, TUSTIN\, GARDEN GROVE\, LOS ANGELES\, FOUNTAIN VALLEY\, AZUSA\, FULLERTON\, OXNARD\, ALHAMBRA\, IRVINE\, CHINO HILLS\, CULVER CITY\, FONTANA\, HAWTHORNE\, BURBANK\, CITY OF INDUSTRY\, INGLEWOOD\, TUSTIN\, HUNTINGTON BEACH\, TORRANCE\, SANTA MARIA.
URL:https://www.lorenawinediary.com/event/wine-tasting-with-faire-la-fete/
LOCATION:Instagram
ATTACH;FMTTYPE=image/png:https://www.lorenawinediary.com/wp-content/uploads/2020/09/Copy-of-Copy-of-Jueves-Mayo-7-e1601175211232.png
END:VEVENT
BEGIN:VEVENT
DTSTART;TZID=America/Los_Angeles:20200709T163000
DTEND;TZID=America/Los_Angeles:20200709T173000
DTSTAMP:20260423T180015
CREATED:20200628T203501Z
LAST-MODIFIED:20200630T004712Z
UID:1998-1594312200-1594315800@www.lorenawinediary.com
SUMMARY:Building a diverse industry & Exploring Livermore Wineries
DESCRIPTION:“Building a diverse industry & Exploring Livermore Wineries”\nI’m pleased and very excited about this and It’s something you just can’t miss out on. “Building a diverse industry & Exploring Livermore Wineries” Interview with winemaker and founder Phil Long from Longevity Wines @longevity_wines and also President of the African American Association vintners. We will discuss about his own winery\, his involvement in AAAV\, Livermore Valley as a region and its Wineries.
URL:https://www.lorenawinediary.com/event/building-a-diverse-industry-exploring-livermore-wineries/
ATTACH;FMTTYPE=image/png:https://www.lorenawinediary.com/wp-content/uploads/2020/06/Phil_Interview-e1593478018612.png
END:VEVENT
END:VCALENDAR